BEGIN:VCALENDAR
VERSION:2.0
PRODID:-//ChamberMaster//Event Calendar 2.0//EN
METHOD:PUBLISH
X-PUBLISHED-TTL:P3D
REFRESH-INTERVAL:P3D
CALSCALE:GREGORIAN
BEGIN:VEVENT
DTSTART:20250426T210000Z
DTEND:20250426T223000Z
X-MICROSOFT-CDO-ALLDAYEVENT:FALSE
SUMMARY:Valslist Live Concert Series at The Winnetka Chapel
DESCRIPTION:Valslist Live Concert featuring indie guitarist and songwriter JAKE ALLEN\n\nConcert at 4 pm\n\nDoors at 3:30 pm \n\n\n\nFree concert with $5 reservation fee and Artist Tip Jar\n\nOur concerts are intimate seated listening shows\, one hour set\, with meet  & greet after the show. All ages. Walk-ins welcome if space allows. Our concerts sell out quickly.  Reserve tickets here:  ?https://valslist.regfox.com/valslist-live
X-ALT-DESC;FMTTYPE=text/html:Valslist Live Concert featuring indie guitarist and songwriter JAKE ALLEN<br />\nConcert at 4 pm<br />\nDoors at 3:30 pm&nbsp\;<br />\n<br />\nFree concert with $5 reservation fee and Artist Tip Jar<br />\nOur concerts are intimate seated listening shows\, one hour set\, with meet&nbsp\; &amp\; greet after the show. All ages. Walk-ins welcome if space allows. Our concerts sell out quickly.&nbsp\; Reserve tickets here:&nbsp\;&nbsp\;?https://valslist.regfox.com/valslist-live
LOCATION:
UID:e.259.16553
SEQUENCE:3
DTSTAMP:20260426T022135Z
URL:https://chamber.wngchamber.com/events/details/valslist-live-concert-series-at-the-winnetka-chapel-04-26-2025-16553
END:VEVENT

END:VCALENDAR
