BEGIN:VCALENDAR
VERSION:2.0
PRODID:-//ChamberMaster//Event Calendar 2.0//EN
METHOD:PUBLISH
X-PUBLISHED-TTL:P3D
REFRESH-INTERVAL:P3D
CALSCALE:GREGORIAN
BEGIN:VEVENT
DTSTART;VALUE=DATE:20090202
DTEND;VALUE=DATE:20090203
TRANSP:TRANSPARENT
X-MICROSOFT-CDO-ALLDAYEVENT:TRUE
SUMMARY:Shop Locally
DESCRIPTION:TEN TOP REASONS TO SHOP LOCALLY... 10. Friendly   Often you will encounter friends who shop and/or work in town. 9. Personal Attention   Many businesses listen to your concerns\, know you by name\, and are committed to building long-lasting relationships. 8. Service   Most local shops will gift wrap\, provide professional expertise\, and take time to be courteous and helpful. 7. Product Diversity   Because most small businesses select products based on the interests and needs of local customers\, they offer a much broader range of product choices. 6. Efficiency Shoppers spend less time driving to a local business\, in traffic\, being served\, making a product choice\, and walking long distances to parking. 5. Environmental Sustainability   Automobile use and pollution is reduced because local businesses are convenient and "walkable." 4. Convenience   Winnetka has four distinct business districts providing diverse shopping\, dining and services. 3. Benefit Local Interests - Local business donate generously to support Winnetka's schools\, sports teams and not-for-profit organizations. 2. Keep Dollars in the Local Economy   Compared to big-box\, corporate chain stores\, locally owned businesses reinvest a much larger share of their revenue back into the local economy\, enriching the whole community. 1. Revenue Enhancement - Winnetka receives 1% of local sales tax revenues   which added more than $1.45 million dollars to Village funds last year. [Note: Sales tax dollars reduce real estate tax requirements.]
X-ALT-DESC;FMTTYPE=text/html:<div style="margin: 0in 0in 0pt" align="center"><strong>TEN TOP REASONS TO SHOP LOCALLY...</strong></div><div style="margin: 0in 0in 0pt">&nbsp\;</div><div style="margin: 0in 0in 0pt"><strong>10. Friendly &ndash\; </strong>Often you will encounter friends who shop and/or work in town.</div><div style="margin: 0in 0in 0pt"><strong>&nbsp\;</strong></div><div style="margin: 0in 0in 0pt"><strong>9. Personal Attention</strong> &ndash\; Many businesses listen to your concerns\, know you by name\, and are committed to building long-lasting relationships.</div><div style="margin: 0in 0in 0pt"><strong>&nbsp\;</strong></div><div style="margin: 0in 0in 0pt"><strong>8. Service &ndash\; </strong>Most local shops will gift wrap\, provide professional expertise\, and take time to be courteous and helpful.</div><div style="margin: 0in 0in 0pt"><strong>&nbsp\;</strong></div><div style="margin: 0in 0in 0pt"><strong>7. Product Diversity</strong> &ndash\; Because most small businesses select products based on the interests and needs of local customers\, they offer a much broader range of product choices.</div><div style="margin: 0in 0in 0pt"><strong>&nbsp\;</strong></div><div style="margin: 0in 0in 0pt"><strong>6. Efficiency&ndash\;</strong>Shoppers spend less time driving to a local business\, in traffic\, being served\, making a product choice\, and walking long distances to parking.</div><div style="margin: 0in 0in 0pt"><strong>&nbsp\;</strong></div><div style="margin: 0in 0in 0pt"><strong>5. Environmental Sustainability</strong> &ndash\; Automobile use and pollution is reduced because local businesses are convenient and &ldquo\;walkable.&rdquo\;</div><div style="margin: 0in 0in 0pt"><strong>&nbsp\;</strong></div><div style="margin: 0in 0in 0pt"><strong>4. Convenience &ndash\; </strong>Winnetka has four distinct business districts providing diverse shopping\, dining and services.</div><div style="margin: 0in 0in 0pt">&nbsp\;</div><div style="margin: 0in 0in 0pt"><strong>3. Benefit Local Interests</strong> - Local business donate generously to support Winnetka&rsquo\;s schools\, sports teams and not-for-profit organizations.</div><div style="margin: 0in 0in 0pt"><strong>&nbsp\;</strong></div><div style="margin: 0in 0in 0pt"><strong>2. Keep Dollars in the Local Economy</strong> &ndash\; Compared to big-box\, corporate chain stores\, locally owned businesses reinvest a much larger share of their revenue back into the local economy\, enriching the whole community.</div><div style="margin: 0in 0in 0pt"><strong>&nbsp\;</strong></div><div style="margin: 0in 0in 0pt"><strong>1. Revenue Enhancement</strong> - Winnetka receives 1% of local sales tax revenues &ndash\; which added more than $1.45 million dollars to Village funds last year. [<strong>Note: Sales tax dollars reduce real estate tax requirements.]</strong></div><div style="margin: 0in 0in 0pt"><strong>&nbsp\;</strong></div><div style="margin: 0in 0in 0pt"><strong>&nbsp\;</strong></div><div style="margin: 0in 0in 0pt">&nbsp\;</div><div style="margin: 0in 0in 0pt">&nbsp\;</div><div style="margin: 0in 0in 0pt">&nbsp\;</div><div style="margin: 0in 0in 0pt">&nbsp\;</div><div style="margin: 0in 0in 0pt">&nbsp\;</div><div style="margin: 0in 0in 0pt">&nbsp\;</div><div style="margin: 0in 0in 0pt">&nbsp\;</div><div style="margin: 0in 0in 0pt">&nbsp\;</div><div style="margin: 0in 0in 0pt">&nbsp\;</div><div style="margin: 0in 0in 0pt">&nbsp\;</div><div style="margin: 0in 0in 0pt">&nbsp\;</div><div style="margin: 0in 0in 0pt">&nbsp\;</div>
LOCATION:
UID:e.259.830
SEQUENCE:3
DTSTAMP:20260426T035822Z
URL:https://chamber.wngchamber.com/events/details/shop-locally-02-02-2009-830
END:VEVENT

END:VCALENDAR
