BEGIN:VCALENDAR
VERSION:2.0
PRODID:-//ChamberMaster//Event Calendar 2.0//EN
METHOD:PUBLISH
X-PUBLISHED-TTL:P3D
REFRESH-INTERVAL:P3D
CALSCALE:GREGORIAN
BEGIN:VEVENT
DTSTART;VALUE=DATE:20250822
DTEND;VALUE=DATE:20250825
TRANSP:TRANSPARENT
X-MICROSOFT-CDO-ALLDAYEVENT:TRUE
SUMMARY:Sheridan Estate Sales II is in Glencoe!
DESCRIPTION:Sheridan Estate Sales II\, Inc. is a premiere award-winning estate sale company.  We are based in Wilmette\, Illinois\, serving the North Shore and Chicagoland area. Our luxury estate sales are often held in million-dollar homes featuring designer furniture\, fine art\, and curated d cor.  We specialize in conducting three-day estate sales\, and are known for our boutique-style staging and a professional approach.\n\n?? What Makes Sheridan Unique:\n\n	Full-service estate sales: From staging and pricing to marketing and hosting the sale\n	Luxury expertise: Specialize in luxury goods\, fine art\, designer furniture\, jewelry\, coins\, and collectibles\n	Professional staging: Transform homes into boutique-style shopping experiences\n	Transparent pricing: Most items are individually priced\, with expert appraisals for unique pieces\n	Secure transactions: Accepts credit/debit and mobile payments with a modern cash register system\n	No conflicts of interest: Fully insured\, with W2 employees and no consignment or resale distractions\n	Personalized service: Clients often praise us for our professionalism\, integrity\, and open communication.\n\nWe've even been selected by the City of Highland Park to manage multiple municipal asset sales.\n\nIf you're downsizing\, relocating\, or managing an estate\, you can learn more or contact us through our official website. \n\nHaving an estate sale can be overwhelming.  We will take care of everything.
X-ALT-DESC;FMTTYPE=text/html:<span style="font-family:times new roman\,serif"><span style="font-size:12.0pt">Sheridan Estate Sales II\, Inc. is a premiere award-winning estate sale company.&nbsp\; We are based in Wilmette\, Illinois\, serving the North Shore and Chicagoland area. Our luxury estate sales are often held in million-dollar homes featuring designer furniture\, fine art\, and curated d&eacute\;cor.&nbsp\; We specialize in conducting <strong>three-day estate sales\, </strong>and are known for our boutique-style staging and a professional approach.</span></span><br />\n<strong><span style="font-family:segoe ui emoji\,sans-serif"><span style="font-size:13.5pt">??</span></span></strong><strong><span style="font-family:times new roman\,serif"><span style="font-size:13.5pt"> What Makes Sheridan Unique:</span></span></strong>\n<ul>\n	<li><strong><span style="font-family:times new roman\,serif"><span style="font-size:12.0pt">Full-service estate sales</span></span></strong><span style="font-family:times new roman\,serif"><span style="font-size:12.0pt">: From staging and pricing to marketing and hosting the sale</span></span></li>\n	<li><strong><span style="font-family:times new roman\,serif"><span style="font-size:12.0pt">Luxury expertise</span></span></strong><span style="font-family:times new roman\,serif"><span style="font-size:12.0pt">: Specialize in luxury goods\, fine art\, designer furniture\, jewelry\, coins\, and collectibles</span></span></li>\n	<li><strong><span style="font-family:times new roman\,serif"><span style="font-size:12.0pt">Professional staging</span></span></strong><span style="font-family:times new roman\,serif"><span style="font-size:12.0pt">: Transform homes into boutique-style shopping experiences</span></span></li>\n	<li><strong><span style="font-family:times new roman\,serif"><span style="font-size:12.0pt">Transparent pricing</span></span></strong><span style="font-family:times new roman\,serif"><span style="font-size:12.0pt">: Most items are individually priced\, with expert appraisals for unique pieces</span></span></li>\n	<li><strong><span style="font-family:times new roman\,serif"><span style="font-size:12.0pt">Secure transactions</span></span></strong><span style="font-family:times new roman\,serif"><span style="font-size:12.0pt">: Accepts credit/debit and mobile payments with a modern cash register system</span></span></li>\n	<li><strong><span style="font-family:times new roman\,serif"><span style="font-size:12.0pt">No conflicts of interest</span></span></strong><span style="font-family:times new roman\,serif"><span style="font-size:12.0pt">: Fully insured\, with W2 employees and no consignment or resale distractions</span></span></li>\n	<li><strong><span style="font-family:times new roman\,serif"><span style="font-size:12.0pt">Personalized service</span></span></strong><span style="font-family:times new roman\,serif"><span style="font-size:12.0pt">: Clients often praise us for our professionalism\, integrity\, and open communication.</span></span></li>\n</ul>\n<span style="font-family:times new roman\,serif"><span style="font-size:12.0pt">We&rsquo\;ve even been selected by the City of Highland Park to manage multiple municipal asset sales.</span></span><br />\n<span style="font-family:times new roman\,serif"><span style="font-size:12.0pt">If you&#39\;re downsizing\, relocating\, or managing an estate\, you can learn more or contact us through our official website. </span></span><br />\n<span style="font-size:13.5pt">Having an estate sale can be overwhelming.&nbsp\; We will take care of everything.</span>&nbsp\;&nbsp\;
LOCATION:Details can be found at our website. www.sheridan2inc.com
UID:e.259.17264
SEQUENCE:3
DTSTAMP:20260425T200012Z
URL:https://chamber.wngchamber.com/events/details/sheridan-estate-sales-ii-is-in-glencoe-17264
END:VEVENT

END:VCALENDAR
