BEGIN:VCALENDAR
VERSION:2.0
PRODID:-//ChamberMaster//Event Calendar 2.0//EN
METHOD:PUBLISH
X-PUBLISHED-TTL:P3D
REFRESH-INTERVAL:P3D
CALSCALE:GREGORIAN
BEGIN:VEVENT
DTSTART:20240922T190000Z
DTEND:20240922T210000Z
X-MICROSOFT-CDO-ALLDAYEVENT:FALSE
SUMMARY:Schmidt-Burnham Log House is Open
DESCRIPTION:The Winnetka Historical Society's Schmidt-Burnham Log House (c.1837) offers self-guided tours\, a scavenger hunt for young visitors and the young at heart as well as school group programs. The Log House is open once a week on Sundays (2-4) from May 5th through November 17th. It is the oldest log structure in the area to be continuously occupied for nearly 165 years. For more information visit the Winnetka Historical Society Website...https://www.winnetkahistory.org
X-ALT-DESC;FMTTYPE=text/html:<span style="color:rgb(0\, 0\, 0)\; font-family:open sans\,avenir\,helvetica\,arial\,sans-serif\; font-size:16px">The Winnetka Historical Society&#39\;s Schmidt-Burnham Log House (c.1837) offers self-guided tours\, a scavenger hunt for young visitors and the young at heart as well as school group programs. The Log House is open once a week on Sundays (2-4) from May 5th through November 17th. It is the oldest log structure in the area to be continuously occupied for nearly 165 years. For more information visit the Winnetka Historical Society Website...<a href="https://www.winnetkahistory.org">https://www.winnetkahistory.org</a></span>
LOCATION:1140 Willow Road\, Winnetka\, IL 60093
UID:e.259.15383
SEQUENCE:3
DTSTAMP:20260420T034833Z
URL:https://chamber.wngchamber.com/events/details/schmidt-burnham-log-house-is-open-09-22-2024-15383
END:VEVENT

END:VCALENDAR
