BEGIN:VCALENDAR
VERSION:2.0
PRODID:-//ChamberMaster//Event Calendar 2.0//EN
METHOD:PUBLISH
X-PUBLISHED-TTL:P3D
REFRESH-INTERVAL:P3D
CALSCALE:GREGORIAN
BEGIN:VEVENT
DTSTART:20260716T171500Z
DTEND:20260716T183000Z
X-MICROSOFT-CDO-ALLDAYEVENT:FALSE
SUMMARY:Rotary Club of Winnetka-Northfield
DESCRIPTION:Speaker: \n\n\n	\n		\n			Katie Boughman\, Wildlife Research Supervisor\n			 Jul 16\, 2026\n			\n			Coyotes in Forest Preserves of Cook County\n			\n		\n	\n\n\n\n	\n		\n			Thursdays at 12:15 PM\n		\n		\n			Community House.\n\n			Check our bulletin to see if we are meeting in person.\n\n			Zoom is always an option.\n		\n		\n			620 Lincoln Avenue\n\n			Winnetka\, IL 60093\n\n			United States of America
X-ALT-DESC;FMTTYPE=text/html:<div style="text-align: center\;"><span style="font-size:18px\;">Speaker:&nbsp\;</span>\n\n<table aria-describedby="tblGrid_info" cellpadding="0" cellspacing="0" class="listView GeneralList no-scroll dataTable no-footer" id="tblGrid" role="grid" style="background-color: rgb(255\, 255\, 255)\; width: 450px\; border-spacing: 0px\; margin: 0px auto\; clear: both\; border-bottom-width: medium\; border-bottom-style: none\; border-bottom-color: currentcolor\; color: rgb(34\, 34\, 34)\; font-family: &quot\;Open Sans&quot\;\, serif\; font-size: 15px\; display: block !important\;">\n	<tbody style="box-sizing: border-box\; display: block\;">\n		<tr class="odd" role="row" style="box-sizing: border-box\; border-bottom-width: medium\; border-bottom-style: none\; border-bottom-color: currentcolor\; vertical-align: top\; height: auto\; background-color: transparent\; width: 450px\; border-top: 1px solid rgb(238\, 238\, 238)\; display: inline-block\; padding: 4px 0px\;">\n			<td class="speakerInfo speakerName" style="box-sizing: content-box\; padding: 4px 0px\; word-break: break-word\; overflow-wrap: break-word\; border-bottom-width: medium\; border-bottom-style: none\; border-bottom-color: currentcolor\; position: relative\; display: block\;"><a href="https://wnrotary.org/speakers/07425464-e6ac-45f0-9c5f-61cf7fb83385" style="box-sizing: border-box\; background-color: transparent\; color: rgb(38\, 59\, 76)\; text-decoration: none\; cursor: pointer\; transition: 0.2s\; outline: rgb(38\, 59\, 76) solid 1px\; font-size: 22px\; font-family: &quot\;Open Sans&quot\;\, Helvetica\, Arial\, sans-serif\; line-height: 1.3\;">Katie Boughman\, Wildlife Research Supervisor</a></td>\n			<td class="speakerInfo speakerDate themeColorDark sorting_1" style="box-sizing: content-box\; padding: 4px 0px\; border-bottom-width: medium\; border-bottom-style: none\; border-bottom-color: currentcolor\; position: relative\; float: left\; background-color: transparent\;">&nbsp\;Jul 16\, 2026</td>\n			<td class="speakerInfo speakerTopic" style="box-sizing: border-box\; padding: 4px 0px\; word-break: break-word\; overflow-wrap: break-word\; border-bottom-width: medium\; border-bottom-style: none\; border-bottom-color: currentcolor\; position: relative\; float: left\; width: 450px\;">\n			<div style="box-sizing: border-box\; margin-bottom: 10px\;">Coyotes in Forest Preserves of Cook County</div>\n			</td>\n		</tr>\n	</tbody>\n</table>\n\n<table border="0" cellpadding="0" cellspacing="0" style="border-collapse:collapse\;width:100.0%\;" width="100%">\n	<tbody>\n		<tr>\n			<td style="padding:0in 0in 0in 0in\;"><span style="font-family:verdana\,sans-serif\;"><span style="font-size:10.0pt\;">Thursdays at 12:15 PM</span></span></td>\n		</tr>\n		<tr>\n			<td style="padding:0in 0in 0in 0in\;"><span style="font-family:verdana\,sans-serif\;"><span style="font-size:10.0pt\;">Community House.<br />\n			Check our bulletin to see if we are meeting in person.<br />\n			Zoom is always an option.</span></span></td>\n		</tr>\n		<tr>\n			<td style="padding:0in 0in 0in 0in\;"><span style="font-family:verdana\,sans-serif\;"><span style="font-size:10.0pt\;">620 Lincoln Avenue<br />\n			Winnetka\, IL&nbsp\;60093<br />\n			United States of America</span></span></td>\n		</tr>\n	</tbody>\n</table>\n</div>\n
LOCATION:Community House Winnetka 620 Lincoln Avenue Winnetka\, IL 60093
UID:e.259.17039
SEQUENCE:3
DTSTAMP:20260425T110758Z
URL:https://chamber.wngchamber.com/events/details/rotary-club-of-winnetka-northfield-07-16-2026-17039
END:VEVENT

END:VCALENDAR
