BEGIN:VCALENDAR
VERSION:2.0
PRODID:-//ChamberMaster//Event Calendar 2.0//EN
METHOD:PUBLISH
X-PUBLISHED-TTL:P3D
REFRESH-INTERVAL:P3D
CALSCALE:GREGORIAN
BEGIN:VEVENT
DTSTART;VALUE=DATE:20100408
DTEND;VALUE=DATE:20100409
TRANSP:TRANSPARENT
X-MICROSOFT-CDO-ALLDAYEVENT:TRUE
SUMMARY:Ribbon Cutting--Winnetka Wine Shop--April 2010
DESCRIPTION:Ribbon Cutting Ceremony   Join us in welcoming: The Winnetka Wine Shop to our community. Meet owners\, Emily Link and Jean Sheridan and celebrate a new Winnetka business with a ribbon cutting celebration. Open HouseRefreshments will be served The Winnetka Wine Shop 726 Elm Street
X-ALT-DESC;FMTTYPE=text/html:<div><div style="margin: 0in 0in 0pt" align="center"><b><span style="font-size: 16pt\; color: #c00000">Ribbon Cutting Ceremony</span></b></div><div style="margin: 0in 0in 0pt">&nbsp\;&nbsp\;</div><div style="margin: 0in 0in 0pt">&nbsp\;</div><div style="margin: 0in 0in 0pt"><span style="font-size: small">Join us in welcoming:</span></div><div style="margin: 0in 0in 0pt">&nbsp\;</div><div style="margin: 0in 0in 0pt"><span style="font-size: small">The Winnetka Wine Shop to our community.</span></div><div style="margin: 0in 0in 0pt">&nbsp\;</div><div style="margin: 0in 0in 0pt"><span style="font-size: small">Meet owners\, Emily Link and Jean Sheridan and celebrate a new&nbsp\;Winnetka business with a ribbon cutting celebration.</span></div><div style="margin: 0in 0in 0pt"><span style="font-size: small">&nbsp\;</span></div><div style="margin: 0in 0in 0pt" align="center"><span style="font-size: small">Open House</span></div><div style="margin: 0in 0in 0pt" align="center"><span style="font-size: small">Refreshments will be served</span></div><div style="margin: 0in 0in 0pt" align="center"><span style="font-size: small">&nbsp\;</span></div><div style="margin: 0in 0in 0pt" align="center"><span style="font-size: small">The Winnetka Wine Shop</span></div><div style="margin: 0in 0in 0pt" align="center"><span style="font-size: small">&nbsp\;726 Elm Street</span></div></div>
LOCATION:The Winnetka Wine726 Elm StreetWinnetka
UID:e.259.1045
SEQUENCE:3
DTSTAMP:20260423T070632Z
URL:https://chamber.wngchamber.com/events/details/ribbon-cutting-winnetka-wine-shop-april-2010-04-08-2010-1045
END:VEVENT

END:VCALENDAR
