BEGIN:VCALENDAR
VERSION:2.0
PRODID:-//ChamberMaster//Event Calendar 2.0//EN
METHOD:PUBLISH
X-PUBLISHED-TTL:P3D
REFRESH-INTERVAL:P3D
CALSCALE:GREGORIAN
BEGIN:VEVENT
DTSTART:20100429T043000Z
DTEND:20100428T183000Z
X-MICROSOFT-CDO-ALLDAYEVENT:FALSE
SUMMARY:RECOGNITION LUNCHEON--34th Annual--April 2010
DESCRIPTION:"34th Annual Spring Recognition Luncheon" is a tribute to honor outstanding individuals for extraordinary service and contributions to the Winnetka community. Awards are given for: BUSINESS LEADER\, WINNETKA VOLUNTEERS\, WINNETKA EDUCATOR\, WINNETKA PUBLIC SAFETY OFFICERS and VILLAGE ORGANIZATIONS/GOVERNMENTAL STAFF. \nAll are invited to attend the Chamber's luncheon which includes a fashion show\, silent auction\, and complimentary gift bag. Assigned seating is available.HonoringBusiness Leader of the Year - Maria KurtFrench Institute of the North Shore/French School Man of the Year - Clyde WillianWinnetka Community House and The Hadley School for the Blind Woman of the Year - Barbara TubekisVolunteer Center Educator of the Year - Shirley CullenNorth Shore Country Day School Winnetka Village Employee of the Year - Mike RivardSewer Supervisor Public Safety Employee of the Year- Detective Brian O'ConnellWinnetka Police Department  The Winnetka Chamber of Commerce would like to thank the following businesses for their kind donations:  Jerry's/Corner Cook's. Village Toy Shop\, Grand Food Center\, Victor Hlavacek Florist & Greenhouses\, Phototronics\, Inc. Lakeside Foods\, John Q. Cook\, MD/Whole Beauty Institute\, Liz Taylor/North Shore Community Bank
X-ALT-DESC;FMTTYPE=text/html:<p><font color="#000000">&nbsp\;&ldquo\;34th Annual Spring Recognition Luncheon&rdquo\; is a tribute to honor outstanding individuals for extraordinary service and contributions to the Winnetka community. Awards are given for: BUSINESS LEADER\, WINNETKA VOLUNTEERS\, WINNETKA EDUCATOR\, WINNETKA PUBLIC SAFETY&nbsp\;OFFICERS and VILLAGE ORGANIZATIONS/GOVERNMENTAL STAFF.</font></p><p><font color="#000000">&nbsp\;<br />All are invited to attend the Chamber&rsquo\;s luncheon which includes a fashion show\, silent auction\, and complimentary gift bag. Assigned seating is available.</font></p><p style="text-align: center"><font color="#000000">Honoring</font></p><div style="text-align: center"><font color="#000000"><strong>Business Leader of the Year - Maria Kurt</strong></font></div><div style="text-align: center"><font color="#000000">French Institute of the North Shore/French School</font></div><div style="text-align: center">&nbsp\;</div><div style="text-align: center"><font color="#000000"><strong>Man of the Year - Clyde Willian</strong></font></div><div style="text-align: center"><font color="#000000">Winnetka Community House and The Hadley School for the Blind</font></div><div style="text-align: center">&nbsp\;</div><div style="text-align: center"><font color="#000000"><strong>Woman of the Year - Barbara Tubekis</strong></font></div><div style="text-align: center"><font color="#000000">Volunteer Center</font></div><div style="text-align: center">&nbsp\;</div><div style="text-align: center"><font color="#000000"><strong>Educator of the Year - Shirley Cullen</strong></font></div><div style="text-align: center"><font color="#000000">North Shore Country Day School</font></div><div style="text-align: center">&nbsp\;</div><div style="text-align: center"><font color="#000000"><strong>Winnetka Village</strong></font> <strong>Employee of the Year - Mike Rivard</strong></div><div style="text-align: center">Sewer Supervisor</div><div style="text-align: center">&nbsp\;</div><div style="text-align: center"><strong>Public Safety Employee of the Year- Detective Brian O&rsquo\;Connell</strong></div><div style="text-align: center">Winnetka Police Department</div><div style="text-align: center">&nbsp\;</div><div style="text-align: left">&nbsp\;</div><div style="text-align: left">The Winnetka Chamber of Commerce would like to thank the following businesses for their kind donations:&nbsp\; Jerry&rsquo\;s/Corner Cook&rsquo\;s. Village Toy Shop\, Grand Food Center\, Victor Hlavacek Florist &amp\; Greenhouses\, Phototronics\, Inc. Lakeside Foods\, John Q. Cook\, MD/Whole Beauty Institute\, Liz Taylor/North Shore Community Bank</div>
LOCATION:Winnetka Community House\, 620 Lincoln Avenue\, Winnetka
UID:e.259.674
SEQUENCE:3
DTSTAMP:20260423T070458Z
URL:https://chamber.wngchamber.com/events/details/recognition-luncheon-34th-annual-april-2010-04-28-2010-674
END:VEVENT

END:VCALENDAR
