BEGIN:VCALENDAR
VERSION:2.0
PRODID:-//ChamberMaster//Event Calendar 2.0//EN
METHOD:PUBLISH
X-PUBLISHED-TTL:P3D
REFRESH-INTERVAL:P3D
CALSCALE:GREGORIAN
BEGIN:VEVENT
DTSTART:20100514T150000Z
DTEND:20100514T200000Z
X-MICROSOFT-CDO-ALLDAYEVENT:FALSE
SUMMARY:North Shore Women's Conference
DESCRIPTION:The 3rd Annual North Shore Women's Conference\, hosted by eighteen chambers\, is a spectacular day of networking\, learning and fun. This motivating conference is designed for professional women working on the North Shore and throughout greater Chicago. It  features a business expo\, a luncheon with a well-known keynote speaker and breakout sessions throughout the day on topics ranging from wellness to business development\, and everything in between. The expo spotlights women-owned businesses and businesses that cater to women. Keynote Speaker Beth Rosen\, 4 Keys Media\, best-selling author of The Social Media Phenom will deliver her presentation\, "I'm too Busy for Social Media\, but I Know I Have to Use It!" Make sure to get your reservation in as soon as possilbe. There are openings for Chamber Members as Exhibitors or Sponsors. Job seekers are Welcome - and will find programs from experts who will be available with job search advice and image consulting recommendations.
X-ALT-DESC;FMTTYPE=text/html:<p class="MsoNormal" style="margin: 0in 0in 0pt">The <em>3rd Annual </em>North Shore Women&rsquo\;s Conference\, hosted by&nbsp\;eighteen chambers\, is a spectacular day of networking\, learning and fun. This motivating conference is designed for professional women working on the <st1:place><st1:placename>North</st1:placename> <st1:placetype>Shore</st1:placetype></st1:place> and throughout greater <st1:city><st1:place>Chicago</st1:place></st1:city>. It <span style="mso-spacerun: yes">&nbsp\;</span>features a business expo\, a luncheon with a well-known keynote speaker and breakout sessions throughout the day on topics ranging from wellness to business development\, and everything in between.</p><p class="MsoNormal" style="margin: 0in 0in 0pt">&nbsp\;</p><p class="MsoNormal" style="margin: 0in 0in 0pt">The expo spotlights women-owned businesses and businesses that cater to women. Keynote Speaker Beth Rosen\, 4 Keys Media\, best-selling author of <em style="mso-bidi-font-style: normal">The Social Media Phenom </em>will deliver her presentation\, &quot\;<strong>I&rsquo\;m too Busy for Social Media\, but I Know I Have to Use It!</strong>&quot\;</p><p class="MsoNormal" style="margin: 0in 0in 0pt">&nbsp\;</p><p class="MsoNormal" style="margin: 0in 0in 0pt">Make sure to get your reservation in as soon as possilbe. There are openings for Chamber Members as Exhibitors&nbsp\;or Sponsors.&nbsp\;Job seekers are Welcome - and&nbsp\;will find programs from experts who will be available with job search&nbsp\;advice and image consulting recommendations.</p><p class="MsoNormal" style="margin: 0in 0in 0pt"><span style="font-family: Verdana\; color: black\; font-size: 6pt"><o:p>&nbsp\;</o:p></span></p>
LOCATION:Lincolnshire Marriott Resort10 Marriott DriveLincolnshire\, IL
UID:e.259.794
SEQUENCE:3
DTSTAMP:20260423T053348Z
URL:https://chamber.wngchamber.com/events/details/north-shore-women-s-conference-05-14-2010-794
END:VEVENT

END:VCALENDAR
