BEGIN:VCALENDAR
VERSION:2.0
PRODID:-//ChamberMaster//Event Calendar 2.0//EN
METHOD:PUBLISH
X-PUBLISHED-TTL:P3D
REFRESH-INTERVAL:P3D
CALSCALE:GREGORIAN
BEGIN:VEVENT
DTSTART:20240927T230000Z
DTEND:20240928T020000Z
X-MICROSOFT-CDO-ALLDAYEVENT:FALSE
SUMMARY:North Shore Art League's 100th Anniversary Gala
DESCRIPTION:Raise a glass of bubbly and celebrate 100 years of art in the community at the North Shore Art League's 100th Anniversary Gala on Friday\, September 27\, 2024\, at 6:00pm. Join us for live art\, live music\, libations\, hors d'oeuvres\, and desserts in the original NSAL studio\, built in 1932 in the Community House\, Winnetka (620 Lincoln Ave). Tickets available now at northshoreartleague.org. We hope to see you there!
X-ALT-DESC;FMTTYPE=text/html:<span style="font-family:arial\,sans-serif"><span style="color:#050505"><span style="background-color:white">Raise a glass of bubbly and celebrate 100 years of art in the community at the North Shore Art League&#39\;s 100th Anniversary Gala on Friday\, September 27\, 2024\, at 6:00pm. Join us for live art\, live music\, libations\, hors d&#39\;oeuvres\, and desserts in the original NSAL studio\, built in 1932 in the Community House\, Winnetka (620 Lincoln Ave). Tickets available now at </span></span></span><a href="https://l.facebook.com/l.php?u=http%3A%2F%2Fnorthshoreartleague.org%2F%3Ffbclid%3DIwZXh0bgNhZW0CMTAAAR3OO5R_3h7U5UxzLTHx7QtG6a45p26C6Oe-Xe6_2DyR7G8jDxbPpYgMStE_aem_CLFk57fyZcOolP87HmjyiQ&amp\;h=AT3xWBmNKvUErjR49VWg3CUdNEuWsEG1CTgIu3VwVkiPi68-Kkmk4E4CFL2awPvgKVY9tCTSYxmZ-0GOjo9MK-NXsXbt-Gr1uy4FCq5G7RA4gxmSTuSO3cFutNsEzu2kBA&amp\;__tn__=-UK-R&amp\;c%5b0%5d=AT1WlvYY9-xSmOTX-8wmMPo2QT4-Uvwf_73gXDBJwOkzRqjUzNMaGdi1hQr3ttmWFBRurKkPbkqgCXEjtyWc90oJHGiFdAMSFr0a74TIwK3Ukm9ygKLdlQvUB419Y6YXiEkumdgvbcG24FYEtwIGhVVACpEgWkkKqo1JA2Vf3ziDc6dDMPIbrUfGyBk3yX5miwKwT7k1nraK_EnlxwjS1CIxwt7gLJbefzIkZ_kTsJOqigkWEp0" style="font-family:Arial\, sans-serif\;" target="_blank"><span style="color:blue">northshoreartleague.org.</span></a><span style="font-family:arial\,sans-serif"><span style="color:#050505"><span style="background-color:white"> We hope to see you there!</span></span></span>
LOCATION:North Shore Art League\, 620 Lincoln Ave\, Winnetka\, IL 60093
UID:e.259.15867
SEQUENCE:3
DTSTAMP:20260420T022547Z
URL:https://chamber.wngchamber.com/events/details/north-shore-art-league-s-100th-anniversary-gala-15867
END:VEVENT

END:VCALENDAR
