BEGIN:VCALENDAR
VERSION:2.0
PRODID:-//ChamberMaster//Event Calendar 2.0//EN
METHOD:PUBLISH
X-PUBLISHED-TTL:P3D
REFRESH-INTERVAL:P3D
CALSCALE:GREGORIAN
BEGIN:VEVENT
DTSTART:20090205T220000Z
DTEND:20090206T003000Z
X-MICROSOFT-CDO-ALLDAYEVENT:FALSE
SUMMARY:Multi Chamber--Chocolate & Champagne Networking Event--February 2009
DESCRIPTION:Enjoy chocolate\, champagne and light appetizers - while you mingle with women from local and area Chambers (Buffalo Grove\, Des Plaines\, Glenview\, Lincolnshire\, Mount Prospect\, Northfield\, Palatine\, Park Ridge\, Skokie\, Wheeling/Prospect Heights & others).
X-ALT-DESC;FMTTYPE=text/html:<div><font size="3">Enjoy chocolate\, champagne and light appetizers - while you mingle with women from local and area Chambers&nbsp\;</font><font size="2">(Buffalo Grove\, Des Plaines\, Glenview\, Lincolnshire\, Mount Prospect\, Northfield\, Palatine\, Park Ridge\, Skokie\, Wheeling/Prospect Heights &amp\; others).</font></div>
LOCATION:Hilton Chicago/Northbrook2855 N. Milwaukee AvenueNorthbrook\, IL.(Note: road construction is underway on Milwaukee Avenue)
UID:e.259.829
SEQUENCE:3
DTSTAMP:20260426T035920Z
URL:https://chamber.wngchamber.com/events/details/multi-chamber-chocolate-champagne-networking-event-february-2009-02-05-2009-829
END:VEVENT

END:VCALENDAR
