BEGIN:VCALENDAR
VERSION:2.0
PRODID:-//ChamberMaster//Event Calendar 2.0//EN
METHOD:PUBLISH
X-PUBLISHED-TTL:P3D
REFRESH-INTERVAL:P3D
CALSCALE:GREGORIAN
BEGIN:VEVENT
DTSTART:20100318T163000Z
DTEND:20100318T183000Z
X-MICROSOFT-CDO-ALLDAYEVENT:FALSE
SUMMARY:Mega Connect Multi-Chamber Networking Lunch-M 3/18/2010
DESCRIPTION:Consider attending this very popular Multi-Chamber event and multiply your networking potential with members from fourteen local chambers.  You will enjoy a structured format that gives you the opportunity to speak to a receptive audience about your company's products and services and have lunch. You will be divided into small groups at assigned tables where everyone will be given the opportunity to make a 2 minute presentation to a captive audience. Click Here FOR FULL INFORMATION FORM
X-ALT-DESC;FMTTYPE=text/html:<div><span style="color: black\; font-size: 11pt">Consider attending this very popular Multi-Chamber event and multiply your networking potential with members from fourteen local chambers.&nbsp\;</span></div><div>&nbsp\;</div><div><span style="color: black\; font-size: 11pt">You will enjoy a structured format that gives you the opportunity to speak to a receptive audience about your company&rsquo\;s products and services and have lunch.&nbsp\;You will be divided into small groups at assigned tables where everyone will be given the opportunity to make a 2 minute presentation to a captive audience.</span></div><div>&nbsp\;</div><div><span style="color: black\; font-size: 11pt"><a href="http://secure.chambermaster.com/FCKeditor/UserFiles/chambers/259/File/2010%20March%20Mega%20Connect%20Form.doc">Click Here FOR FULL INFORMATION FORM</a></span></div>
LOCATION:828 E. Rand Road\, Mt. Prospect (beside Brunswick bowling alley).
UID:e.259.1038
SEQUENCE:3
DTSTAMP:20260423T082545Z
URL:https://chamber.wngchamber.com/events/details/mega-connect-multi-chamber-networking-lunch-m-3-18-2010-03-18-2010-1038
END:VEVENT

END:VCALENDAR
