BEGIN:VCALENDAR
VERSION:2.0
PRODID:-//ChamberMaster//Event Calendar 2.0//EN
METHOD:PUBLISH
X-PUBLISHED-TTL:P3D
REFRESH-INTERVAL:P3D
CALSCALE:GREGORIAN
BEGIN:VEVENT
DTSTART:20260130T000000Z
DTEND:20260130T013000Z
X-MICROSOFT-CDO-ALLDAYEVENT:FALSE
SUMMARY:John Plunkett Interiors and Teidi Homes present: From Cluttered to Curated (and Calm!)
DESCRIPTION:? From Cluttered to Curated (and Calm!)   At Any Stage of Life. Join us Thursday\, January 29 from 6:00-7:30 pm for a special evening with Heidi Carey of Teidi Home and the John Plunkett Interiors design team as we explore how mindful organization and beautiful design work together to transform your home (and your life).\n\n	Live before & after case studies\n	Declutter & Design Solutions for real life\n	Creating systems in your home that last\n	Light Sips & Snacks\n	Giveaways\n	10% storewide savings during the event\n\n?? John Plunkett Interiors Showroom: 80 Green Bay Rd\, Winnetka \n\n?? RSVP: info@johnplunkettinteriors.com by January 26\n\n\n\nWant to have your DECLUTTER & DESIGN DILEMMA featured live at the event? Send a photo and description to Teidi Home by IG DM (Teidi_home) or email:teidihome@gmail.com.
X-ALT-DESC;FMTTYPE=text/html:? From Cluttered to Curated (and Calm!) &mdash\; At Any Stage of Life. Join us Thursday\, January 29 from 6:00-7:30 pm for a special evening with Heidi Carey of Teidi Home and the John Plunkett Interiors design team as we explore how mindful organization and beautiful design work together to transform your home (and your life).\n<ul>\n	<li>Live before &amp\; after case studies</li>\n	<li>Declutter &amp\; Design Solutions for real life</li>\n	<li>Creating systems in your home that last</li>\n	<li>Light Sips &amp\; Snacks</li>\n	<li>Giveaways</li>\n	<li>10% storewide savings during the event</li>\n</ul>\n?? John Plunkett Interiors Showroom: 80 Green Bay Rd\, Winnetka&nbsp\;<br />\n?? RSVP: info@johnplunkettinteriors.com by January 26<br />\n<br />\nWant to have <em>your</em> DECLUTTER &amp\; DESIGN DILEMMA featured live at the event? Send a photo and description to Teidi Home by IG DM (Teidi_home) or email:teidihome@gmail.com.&nbsp\;
LOCATION:?? John Plunkett Interiors Showroom: 80 Green Bay Rd\, Winnetka
UID:e.259.17687
SEQUENCE:3
DTSTAMP:20260425T113656Z
URL:https://chamber.wngchamber.com/events/details/john-plunkett-interiors-and-teidi-homes-present-from-cluttered-to-curated-and-calm-17687
END:VEVENT

END:VCALENDAR
