BEGIN:VCALENDAR
VERSION:2.0
PRODID:-//ChamberMaster//Event Calendar 2.0//EN
METHOD:PUBLISH
X-PUBLISHED-TTL:P3D
REFRESH-INTERVAL:P3D
CALSCALE:GREGORIAN
BEGIN:VEVENT
DTSTART:20260122T010000Z
DTEND:20260122T020000Z
X-MICROSOFT-CDO-ALLDAYEVENT:FALSE
SUMMARY:IS THIS NORMAL? PEDIATRIC ORTHOPEDIC QUESTIONS EVERY PARENT HAS - YMCA Education series with IBJI
DESCRIPTION:Is your child's pain just a normal part of growing\, or something more? From limping and frequent falls to flat feet\, growing pains\, and sports aches\, parents are often left wondering when to worry and when to wait. In this informative webinar\, Dr. Burton\, Pediatric Orthopedic specialist from the Illinois Bone & Joint Institute\, will answer the most common questions parents ask and share clear guidance of what's normal\, what's not\, and when to seek care - so you can feel confident making the right decisions for your child's bone and joint health. \n\n\n\nAbout Dr. Michael Burton\n\n\n\nJoin IBJI's Dr. Michael Burton\, fellowship-trained pediatric orthopedic surgeon with expertise in treating a wide range of musculoskeletal conditions in children. His clinical interests include fractures\, gait abnormalities\, flat feet\, scoliosis\, hip disorders\, and sports-related injuries. Dr. Burton is dedicated to providing compassionate\, family-centered care while helping parents understand what is normal development\, what may require further evaluation\, and when orthopedic care is recommended.
X-ALT-DESC;FMTTYPE=text/html:Is your child&#39\;s pain just a normal part of growing\, or something more? From limping and frequent falls to flat feet\, growing pains\, and sports aches\, parents are often left wondering when to worry and when to wait. In this informative webinar\, Dr. Burton\, Pediatric Orthopedic specialist from the Illinois Bone &amp\; Joint Institute\, will answer the most common questions parents ask and share clear guidance of what&#39\;s normal\, what&#39\;s not\, and when to seek care - so you can feel confident making the right decisions for your child&#39\;s bone and joint health.&nbsp\;<br />\n<br />\n<span style="color:#008000"><strong>About Dr. Michael Burton</strong></span><br />\n<br />\nJoin IBJI&#39\;s Dr. Michael Burton\, fellowship-trained pediatric orthopedic surgeon with expertise in treating a wide range of musculoskeletal conditions in children. His clinical interests include fractures\, gait abnormalities\, flat feet\, scoliosis\, hip disorders\, and sports-related injuries. Dr. Burton is dedicated to providing compassionate\, family-centered care while helping parents understand what is normal development\, what may require further evaluation\, and when orthopedic care is recommended.&nbsp\;
LOCATION:NSYMCA virtual event to register: ibji.com/webinars
UID:e.259.17684
SEQUENCE:3
DTSTAMP:20260425T113924Z
URL:https://chamber.wngchamber.com/events/details/is-this-normal-pediatric-orthopedic-questions-every-parent-has-ymca-education-series-with-ibji-17684
END:VEVENT

END:VCALENDAR
