BEGIN:VCALENDAR
VERSION:2.0
PRODID:-//ChamberMaster//Event Calendar 2.0//EN
METHOD:PUBLISH
X-PUBLISHED-TTL:P3D
REFRESH-INTERVAL:P3D
CALSCALE:GREGORIAN
BEGIN:VEVENT
DTSTART:20260115T000000Z
DTEND:20260115T010000Z
X-MICROSOFT-CDO-ALLDAYEVENT:FALSE
SUMMARY:Breadfruit Book Launch
DESCRIPTION:Join author Dr. Russell Fielding and Trees That Feed Foundation at The Book Stall for a fascinating introduction to breadfruit a nutritious tropical crop with big potential to fight hunger and support sustainable economies. Learn how this remarkable tree is helping communities around the world\, including recent recovery efforts in Jamaica.\n\nOpen to the public\; perfect for anyone interested in food\, the environment\, or global sustainability.\n\nRSVP: https://thebookstall.com/event/2026-01-14/breadfruit-discussion-russell-fielding-and-trees-feed
X-ALT-DESC;FMTTYPE=text/html:<p><span style="font-family:arial\,helvetica\,sans-serif"><span style="font-size:14px">Join author <strong>Dr. Russell Fielding</strong> and <strong>Trees That Feed Foundation</strong> at The Book Stall for a fascinating introduction to <em>breadfruit</em>&mdash\;a nutritious tropical crop with big potential to fight hunger and support sustainable economies. Learn how this remarkable tree is helping communities around the world\, including recent recovery efforts in Jamaica.</span></span></p>\n\n<p><span style="font-family:arial\,helvetica\,sans-serif"><span style="font-size:14px">Open to the public\; perfect for anyone interested in food\, the environment\, or global sustainability.</span></span></p>\n\n<p><span style="font-family:arial\,helvetica\,sans-serif"><span style="font-size:14px"><strong>RSVP:</strong> <a class="decorated-link" href="https://thebookstall.com/event/2026-01-14/breadfruit-discussion-russell-fielding-and-trees-feed" rel="noopener" target="_new">https://thebookstall.com/event/2026-01-14/breadfruit-discussion-russell-fielding-and-trees-feed</a></span></span></p>\n
LOCATION:The Book Stall 811 Elm Street Winnetka\, IL 60093
UID:e.259.17658
SEQUENCE:3
DTSTAMP:20260425T112401Z
URL:https://chamber.wngchamber.com/events/details/breadfruit-book-launch-17658
END:VEVENT

END:VCALENDAR
