BEGIN:VCALENDAR
VERSION:2.0
PRODID:-//ChamberMaster//Event Calendar 2.0//EN
METHOD:PUBLISH
X-PUBLISHED-TTL:P3D
REFRESH-INTERVAL:P3D
CALSCALE:GREGORIAN
BEGIN:VEVENT
DTSTART;VALUE=DATE:20091206
DTEND;VALUE=DATE:20091207
TRANSP:TRANSPARENT
X-MICROSOFT-CDO-ALLDAYEVENT:TRUE
SUMMARY:ANNUAL WINNETKA HOLIDAY SALE--December 2009
DESCRIPTION:Winnetka's traditional Holiday Sunday Sale is always held on the first Sunday after the Thanksgiving weekend. Participating local merchants offer special discounts and complimentary festive treats to enrich the season's shopping experience!
X-ALT-DESC;FMTTYPE=text/html:<div>Winnetka&rsquo\;s traditional Holiday Sunday&nbsp\;Sale is always held on the first Sunday after the Thanksgiving&nbsp\;weekend. Participating local merchants&nbsp\;offer special discounts&nbsp\;and complimentary festive treats to enrich&nbsp\;the season&rsquo\;s&nbsp\;shopping experience!</div><div>&nbsp\;</div>
LOCATION:Winnetka Districts Holiday Sale locations: Hubbard Woods:Cr me de la Cr me@901-903 Green Bay E Street Denim@908 Green BayHastens Beds@976 Green BayMarigolds@1054 GageMaterial Possessions@954 Green BayMattie M@990 Green BaySimone's Boutique@1060 Gage West Elm:All She Wrote@566 Chestnut Bleachers Sports@557 Chestnut Ellen's on Elm@841 Elm Frances Heffernan/Frannie@808-810 Elm Grand Food Center@606 Green Bay Gray@821 Chestnut Kaehler World Traveler@553 Chestnut Noah's Ark Pet Supply@831 Elm Rosemary Shugar@523 Chestnut S'Agaro@847 Elm Sunday Afternoon Gallery@548 Chestnut T.L. Fritts Sporting Goods@560 ChestnutThe Book Stall at Chestnut Court @811 Elm Valentina@566 Chestnut Village Toy Shop@807 Elm Vose-Sanders Bootery@837 Elm East Elm:Conney's Pharmacy@736 Elm Davis Miller@549 Lincoln Marian Michael@515 Lincoln Orrington Jewelers@553 Lincoln Phototronics\, Inc.@740 Elm sight seeing@561 Lincoln T.J. Cullen - Jeweler@562 Lincoln and Hibbard Road Gardens Nursery@SW corner Hibbard\, Winnetka & Hill Roads Call the Chamber office (847) 446-4451 to receive a "red" invitation for individual sale listings and store hours.
UID:e.259.844
SEQUENCE:3
DTSTAMP:20260425T131327Z
URL:https://chamber.wngchamber.com/events/details/annual-winnetka-holiday-sale-december-2009-12-06-2009-844
END:VEVENT

END:VCALENDAR
