BEGIN:VCALENDAR
VERSION:2.0
PRODID:-//ChamberMaster//Event Calendar 2.0//EN
METHOD:PUBLISH
X-PUBLISHED-TTL:P3D
REFRESH-INTERVAL:P3D
CALSCALE:GREGORIAN
BEGIN:VEVENT
DTSTART:20250207T003000Z
DTEND:20250207T013000Z
X-MICROSOFT-CDO-ALLDAYEVENT:FALSE
SUMMARY:A Forty Year Kiss: An Evening with Nickolas Butler
DESCRIPTION:Join The Book Stall (811 Elm Street in Winnetka) on Thursday\, February 6 at 6:30 pm for an evening with Nickolas Butler as he discusses his new book\, A Forty Year Kiss. From the bestselling author of Shotgun Lovesongs comes a rugged small-town novel for readers who still believe in sunset triumph and second chances. With impeccable writing\, this feel-good book featuring adults in their 60s is a refreshing and hopeful love story\, and a nuanced meditation on reconciling with the past. Leif Enger\, bestselling author of Peace Like a River\, says\, "Nick Butler only writes good books\, but this is the one that sticks most tightly in my brain and heart...It's a book for the midnight optimist that is waiting inside us all."  Mr. Butler will be in conversation with Maxwell Gregory. \n\n\n\nThis event is free with registration. To register\, please CLICK HERE. \n\n\n\nMore About the Book: Charlie and Vivian were married for four years and divorced for 40\, but Charlie never quite forgot her. Now\, retired with no place to call home\, he moves back to Wisconsin to see if he can find a new path forward for him and Vivian together. But Charlie still drinks too much\, and although he has a beautiful home and plenty of money\, he has no family to call his own and the loneliness cuts deep. Vivian's life is filled with love\, but money is tight\, and she shares a small home with her daughter and granddaughters. She's tired of being poor\, of having no one to care for her\, of always being responsible for someone else. When Charlie and Vivian find each other again\, they find that falling back in love is the easy part. Forgiving each other and creating a future together will be the work of a lifetime.?\n\n\n\nNathan Hill\, New York Times bestselling author of Wellness\, says\, "Thank you\, Nickolas Butler\, for writing a love story that feels so powerfully real\, a story that captures the hope\, grace\, and joy of new love but also the mistakes\, scar tissue\, and regret of past love."\n\n\n\nMore About the Author: Nickolas Butler was born in Allentown\, Pennsylvania\, raised in Eau Claire\, Wisconsin and educated at the University of Wisconsin-Madison and the University of Iowa Writer's Workshop. He is the winner of France's prestigious PAGE Prix America\, the 2014 Great Lakes Great Reads Award\, the 2014 Midwest Independent Booksellers Award\, the 2015 Wisconsin Library Association Literary Award\, the 2015 UW-Whitewater Chancellor's Regional Literary Award\, and has been long-listed for the 2014 Flaherty Dunnan Award for First Novel and short-listed for France's FNAC Prix. He is the author of the internationally bestselling novel Shotgun Lovesongs and an acclaimed collection of short stories entitled\, "Beneath the Bonfire" as well as three other novels. He lives on sixteen acres of land in rural Wisconsin adjacent to a buffalo farm. He is married and has two children.\n\n\n\nMore About our Conversation Partner: Maxwell Gregory has been a bookseller in the North Shore for 20 years.  She is on the board of the Great Lakes Booksellers Association and is the Author Liaison and Scheduling Producer for A Mighty Blaze's Crime Time interviews with Hank Phillippi Ryan.  She is affiliated with Madison Street Books in Chicago's West Loop.
X-ALT-DESC;FMTTYPE=text/html:<span style="font-family:arial\,sans-serif">Join&nbsp\;<strong>The Book Stall</strong>&nbsp\;(811 Elm Street in Winnetka) on <strong>Thursday\, February 6</strong> at <strong>6:30 pm</strong> for an evening with&nbsp\;<strong>Nickolas Butler</strong>&nbsp\;as he discusses his new book\,&nbsp\;<strong><em>A Forty Year Kis</em>s</strong>.&nbsp\;From the bestselling author of&nbsp\;<em>Shotgun Lovesongs&nbsp\;</em>comes a rugged small-town novel for readers who still believe in sunset triumph and second chances.&nbsp\;With impeccable writing\, this feel-good book featuring adults in their 60s is a refreshing and hopeful love story\, and a nuanced meditation on reconciling with the past.&nbsp\;Leif Enger\, bestselling author of&nbsp\;<em>Peace Like a River</em>\, says\, &quot\;Nick Butler only writes good books\, but this is the one that sticks most tightly in my brain and heart...It&rsquo\;s a book for the midnight optimist that is waiting inside us all.&rdquo\;&nbsp\; Mr. Butler will be in conversation with&nbsp\;<strong>Maxwell Gregory</strong>.&nbsp\;</span><br />\n<br />\n<strong><span style="font-family:arial\,sans-serif">This event is free with registration. To register\, please&nbsp\;</span></strong><a href="https://www.thebookstall.com/evening-nickolas-butler"><strong><span style="font-family:arial\,sans-serif">CLICK HERE</span></strong></a><strong><span style="font-family:arial\,sans-serif">.&nbsp\;</span></strong><br />\n<br />\n<strong><span style="font-family:arial\,sans-serif">More About the Book:</span></strong><span style="font-family:arial\,sans-serif">&nbsp\;Charlie and Vivian were married for four years and divorced for 40\, but Charlie never quite forgot her. Now\, retired with no place to call home\, he moves back to Wisconsin to see if he can find a new path forward for him and Vivian together. But Charlie still drinks too much\, and although he has a beautiful home and plenty of money\, he has no family to call his own and the loneliness cuts deep. Vivian&rsquo\;s life is filled with love\, but money is tight\, and she shares a small home with her daughter and granddaughters. She&rsquo\;s tired of being poor\, of having no one to care for her\, of always being responsible for someone else. When Charlie and Vivian find each other again\, they find that falling back in love is the easy part. Forgiving each other&mdash\;and creating a future together&mdash\;will be the work of a lifetime.?</span><br />\n<br />\n<span style="font-family:arial\,sans-serif">Nathan Hill\,&nbsp\;<em>New York Times</em>&nbsp\;bestselling author of <em>Wellness</em>\, says\, &quot\;Thank you\, Nickolas Butler\, for writing a love story that feels so powerfully real\, a story that captures the hope\, grace\, and joy of new love&mdash\;but also the mistakes\, scar tissue\, and regret of past love.&rdquo\;</span><br />\n<br />\n<strong><span style="font-family:arial\,sans-serif">More About the Author: Nickolas Butler</span></strong><span style="font-family:arial\,sans-serif">&nbsp\;was born in Allentown\, Pennsylvania\, raised in Eau Claire\, Wisconsin and educated at the University of Wisconsin-Madison and the University of Iowa Writer&#39\;s Workshop. He is the winner of France&#39\;s prestigious PAGE Prix America\, the 2014 Great Lakes Great Reads Award\, the 2014 Midwest Independent Booksellers Award\, the 2015 Wisconsin Library Association Literary Award\, the 2015 UW-Whitewater Chancellor&#39\;s Regional Literary Award\, and has been long-listed for the 2014 Flaherty Dunnan Award for First Novel and short-listed for France&#39\;s FNAC Prix. He&nbsp\;is the author of the internationally bestselling novel&nbsp\;<em>Shotgun Lovesongs&nbsp\;</em>and an acclaimed collection of short stories entitled\, &quot\;Beneath the Bonfire&rdquo\; as well as three other novels. He lives on sixteen acres of land in rural Wisconsin adjacent to a buffalo farm. He is married and has two children.</span><br />\n<br />\n<strong><span style="font-family:arial\,sans-serif">More About our Conversation Partner:&nbsp\;Maxwell Gregory</span></strong><span style="font-family:arial\,sans-serif">&nbsp\;has been a bookseller in the North Shore for 20 years.&nbsp\; She is on the board of the Great Lakes Booksellers Association and is the Author Liaison and Scheduling Producer for A Mighty Blaze&rsquo\;s Crime Time interviews with Hank Phillippi Ryan.&nbsp\; She is affiliated with Madison Street Books in Chicago&rsquo\;s West Loop.</span><br />\n&nbsp\;
LOCATION:The Book Stall 811 Elm Street
UID:e.259.16557
SEQUENCE:3
DTSTAMP:20260421T081322Z
URL:https://chamber.wngchamber.com/events/details/a-forty-year-kiss-an-evening-with-nickolas-butler-16557
END:VEVENT

END:VCALENDAR
